Workbook

Sheet Kundendaten
A1: KundenID | B1: Firmenname | C1: Branche | D1: Land | E1: Mitarbeiterzahl | F1: Jahresumsatz_Kunde_Mio_EUR | G1: Kundenalter_Jahre | H1: Umsatz_mit_uns_12M_EUR | I1: Anzahl_Bestellungen_12M | J1: Letzte_Bestellung_Tage | K1: Anzahl_Reklamationen_12M | L1: Zahlungsziel_Ueberschreitung_Tage | M1: Anzahl_Produktlinien | N1: Wachstum_YoY_Prozent | O1: Recency_Score | P1: Frequency_Score | Q1: Monetary_Score | R1: RFM_Summe | S1: Kundenwert_Score | T1: Segment | U1: Firmenpotenzial_Score | V1: Firmo_Distanz_TopKunden | W1: Erwarteter_Umsatz_EUR | X1: Umsatzluecke_EUR | Y1: Cross_Selling_Potenzial | Z1: Fruehwarn_Score | AA1: Risiko_Ampel
A2: K00001 | B2: Alpen Werke GmbH | C2: Automotive-Zulieferer | D2: DE | E2: 325 | F2: 95.3 | G2: 15.1 | H2: 38280 | I2: 3 | J2: 11 | K2: 0 | L2: -5 | M2: 4 | N2: 18.6 | O2: =IF(J2>365,1,IF(J2<=30,5,IF(J2<=90,4,IF(J2<=180,3,2)))) -> 5 | P2: =IF(I2>=5,5,IF(I2>=4,4,IF(I2>=3,3,IF(I2>=2,2,1)))) -> 3 | Q2: =IF(H2>=7500,5,IF(H2>=2500,4,IF(H2>=1000,3,IF(H2>=1,2,1)))) -> 5 | R2: =O2+P2+Q2 -> 13 | S2: =ROUND(10*R2+0.5*N2-6*K2-0.3*MAX(0,L2),1) -> 139.3 | T2: =IF(J2>365,"D - Abwanderungsrisiko",IF(S2>=125,"A - Top-Kunde",IF(S2>=105,"B - Kernkunde","C - Entwicklungspotenzial"))) -> A - Top-Kunde | U2: =ROUND(((E2-Hilfswerte!$B$20)/Hilfswerte!$B$21)+((F2-Hilfswerte!$B$22)/Hilfswerte!$B$23)+((G2-Hilfswerte!$B$24)/Hilfswerte!$B$25)+0.1*INDEX(Hilfswerte!$B$4:$B$15,MATCH(C2,Hilfswerte!$A$4:$A$15,0)),2) -> 3.14 | V2: =ROUND(SQRT((((E2-Hilfswerte!$B$20)/Hilfswerte!$B$21)-Hilfswerte!$B$28)^2+(((F2-Hilfswerte!$B$22)/Hilfswerte!$B$23)-Hilfswerte!$B$29)^2+(((G2-Hilfswerte!$B$24)/Hilfswerte!$B$25)-Hilfswerte!$B$30)^2),3) -> 1.385 | W2: =ROUND(E2*Hilfswerte!$B$31,0) -> 66802 | X2: =MAX(0,W2-H2) -> 28522 | Y2: =IF(T2="A - Top-Kunde","bereits Top-Kunde",IF(AND(V2<=Hilfswerte!$B$34,H2<0.5*W2),"Hoch",IF(AND(V2<=Hilfswerte!$B$35,H2<0.7*W2),"Mittel","Niedrig"))) -> bereits Top-Kunde | Z2: =ROUND(0.4*MAX(0,-N2)+3*K2+0.2*MAX(0,L2)+0.05*J2,1) -> 0.6 | AA2: =IF(J2>365,"Bereits abgewandert (Segment D)",IF(Z2>=Hilfswerte!$B$38,"Rot - akut gefaehrdet",IF(Z2>=Hilfswerte!$B$39,"Gelb - beobachten","Gruen - stabil"))) -> Gruen - stabil
A3: K00002 | B3: Vogel GmbH & Co. KG | C3: Maschinenbau | D3: DE | E3: 49 | F3: 9.7 | G3: 6.8 | H3: 14900 | I3: 4 | J3: 12 | K3: 1 | L3: 10 | M3: 6 | N3: -20.5 | O3: =IF(J3>365,1,IF(J3<=30,5,IF(J3<=90,4,IF(J3<=180,3,2)))) -> 5 | P3: =IF(I3>=5,5,IF(I3>=4,4,IF(I3>=3,3,IF(I3>=2,2,1)))) -> 4 | Q3: =IF(H3>=7500,5,IF(H3>=2500,4,IF(H3>=1000,3,IF(H3>=1,2,1)))) -> 5 | R3: =O3+P3+Q3 -> 14 | S3: =ROUND(10*R3+0.5*N3-6*K3-0.3*MAX(0,L3),1) -> 120.8 | T3: =IF(J3>365,"D - Abwanderungsrisiko",IF(S3>=125,"A - Top-Kunde",IF(S3>=105,"B - Kernkunde","C - Entwicklungspotenzial"))) -> B - Kernkunde | U3: =ROUND(((E3-Hilfswerte!$B$20)/Hilfswerte!$B$21)+((F3-Hilfswerte!$B$22)/Hilfswerte!$B$23)+((G3-Hilfswerte!$B$24)/Hilfswerte!$B$25)+0.1*INDEX(Hilfswerte!$B$4:$B$15,MATCH(C3,Hilfswerte!$A$4:$A$15,0)),2) -> -1.15 | V3: =ROUND(SQRT((((E3-Hilfswerte!$B$20)/Hilfswerte!$B$21)-Hilfswerte!$B$28)^2+(((F3-Hilfswerte!$B$22)/Hilfswerte!$B$23)-Hilfswerte!$B$29)^2+(((G3-Hilfswerte!$B$24)/Hilfswerte!$B$25)-Hilfswerte!$B$30)^2),3) -> 1 | W3: =ROUND(E3*Hilfswerte!$B$31,0) -> 10072 | X3: =MAX(0,W3-H3) -> 0 | Y3: =IF(T3="A - Top-Kunde","bereits Top-Kunde",IF(AND(V3<=Hilfswerte!$B$34,H3<0.5*W3),"Hoch",IF(AND(V3<=Hilfswerte!$B$35,H3<0.7*W3),"Mittel","Niedrig"))) -> Niedrig | Z3: =ROUND(0.4*MAX(0,-N3)+3*K3+0.2*MAX(0,L3)+0.05*J3,1) -> 13.8 | AA3: =IF(J3>365,"Bereits abgewandert (Segment D)",IF(Z3>=Hilfswerte!$B$38,"Rot - akut gefaehrdet",IF(Z3>=Hilfswerte!$B$39,"Gelb - beobachten","Gruen - stabil"))) -> Gelb - beobachten
A4: K00003 | B4: Werner SE | C4: Maschinenbau | D4: DE | E4: 119 | F4: 28 | G4: 15.1 | H4: 0 | I4: 0 | J4: 753 | K4: 0 | L4: 26 | M4: 0 | N4: -64.4 | O4: =IF(J4>365,1,IF(J4<=30,5,IF(J4<=90,4,IF(J4<=180,3,2)))) -> 1 | P4: =IF(I4>=5,5,IF(I4>=4,4,IF(I4>=3,3,IF(I4>=2,2,1)))) -> 1 | Q4: =IF(H4>=7500,5,IF(H4>=2500,4,IF(H4>=1000,3,IF(H4>=1,2,1)))) -> 1 | R4: =O4+P4+Q4 -> 3 | S4: =ROUND(10*R4+0.5*N4-6*K4-0.3*MAX(0,L4),1) -> -10 | T4: =IF(J4>365,"D - Abwanderungsrisiko",IF(S4>=125,"A - Top-Kunde",IF(S4>=105,"B - Kernkunde","C - Entwicklungspotenzial"))) -> D - Abwanderungsrisiko | U4: =ROUND(((E4-Hilfswerte!$B$20)/Hilfswerte!$B$21)+((F4-Hilfswerte!$B$22)/Hilfswerte!$B$23)+((G4-Hilfswerte!$B$24)/Hilfswerte!$B$25)+0.1*INDEX(Hilfswerte!$B$4:$B$15,MATCH(C4,Hilfswerte!$A$4:$A$15,0)),2) -> 0.8 | V4: =ROUND(SQRT((((E4-Hilfswerte!$B$20)/Hilfswerte!$B$21)-Hilfswerte!$B$28)^2+(((F4-Hilfswerte!$B$22)/Hilfswerte!$B$23)-Hilfswerte!$B$29)^2+(((G4-Hilfswerte!$B$24)/Hilfswerte!$B$25)-Hilfswerte!$B$30)^2),3) -> 0.674 | W4: =ROUND(E4*Hilfswerte!$B$31,0) -> 24460 | X4: =MAX(0,W4-H4) -> 24460 | Y4: =IF(T4="A - Top-Kunde","bereits Top-Kunde",IF(AND(V4<=Hilfswerte!$B$34,H4<0.5*W4),"Hoch",IF(AND(V4<=Hilfswerte!$B$35,H4<0.7*W4),"Mittel","Niedrig"))) -> Hoch | Z4: =ROUND(0.4*MAX(0,-N4)+3*K4+0.2*MAX(0,L4)+0.05*J4,1) -> 68.6 | AA4: =IF(J4>365,"Bereits abgewandert (Segment D)",IF(Z4>=Hilfswerte!$B$38,"Rot - akut gefaehrdet",IF(Z4>=Hilfswerte!$B$39,"Gelb - beobachten","Gruen - stabil"))) -> Bereits abgewandert (Segment D)
A5: K00004 | B5: Alpen Systeme GmbH | C5: Anlagenbau | D5: DE | E5: 160 | F5: 51.4 | G5: 14 | H5: 0 | I5: 0 | J5: 390 | K5: 0 | L5: 1 | M5: 0 | N5: -87.3 | O5: =IF(J5>365,1,IF(J5<=30,5,IF(J5<=90,4,IF(J5<=180,3,2)))) -> 1 | P5: =IF(I5>=5,5,IF(I5>=4,4,IF(I5>=3,3,IF(I5>=2,2,1)))) -> 1 | Q5: =IF(H5>=7500,5,IF(H5>=2500,4,IF(H5>=1000,3,IF(H5>=1,2,1)))) -> 1 | R5: =O5+P5+Q5 -> 3 | S5: =ROUND(10*R5+0.5*N5-6*K5-0.3*MAX(0,L5),1) -> -14 | T5: =IF(J5>365,"D - Abwanderungsrisiko",IF(S5>=125,"A - Top-Kunde",IF(S5>=105,"B - Kernkunde","C - Entwicklungspotenzial"))) -> D - Abwanderungsrisiko | U5: =ROUND(((E5-Hilfswerte!$B$20)/Hilfswerte!$B$21)+((F5-Hilfswerte!$B$22)/Hilfswerte!$B$23)+((G5-Hilfswerte!$B$24)/Hilfswerte!$B$25)+0.1*INDEX(Hilfswerte!$B$4:$B$15,MATCH(C5,Hilfswerte!$A$4:$A$15,0)),2) -> 1.54 | V5: =ROUND(SQRT((((E5-Hilfswerte!$B$20)/Hilfswerte!$B$21)-Hilfswerte!$B$28)^2+(((F5-Hilfswerte!$B$22)/Hilfswerte!$B$23)-Hilfswerte!$B$29)^2+(((G5-Hilfswerte!$B$24)/Hilfswerte!$B$25)-Hilfswerte!$B$30)^2),3) -> 0.508 | W5: =ROUND(E5*Hilfswerte!$B$31,0) -> 32887 | X5: =MAX(0,W5-H5) -> 32887 | Y5: =IF(T5="A - Top-Kunde","bereits Top-Kunde",IF(AND(V5<=Hilfswerte!$B$34,H5<0.5*W5),"Hoch",IF(AND(V5<=Hilfswerte!$B$35,H5<0.7*W5),"Mittel","Niedrig"))) -> Hoch | Z5: =ROUND(0.4*MAX(0,-N5)+3*K5+0.2*MAX(0,L5)+0.05*J5,1) -> 54.6 | AA5: =IF(J5>365,"Bereits abgewandert (Segment D)",IF(Z5>=Hilfswerte!$B$38,"Rot - akut gefaehrdet",IF(Z5>=Hilfswerte!$B$39,"Gelb - beobachten","Gruen - stabil"))) -> Bereits abgewandert (Segment D)
A6: K00005 | B6: Rhein GmbH & Co. KG | C6: Automotive-Zulieferer | D6: DE | E6: 35 | F6: 9.6 | G6: 7.9 | H6: 1420 | I6: 4 | J6: 192 | K6: 0 | L6: 22 | M6: 2 | N6: 2.1 | O6: =IF(J6>365,1,IF(J6<=30,5,IF(J6<=90,4,IF(J6<=180,3,2)))) -> 2 | P6: =IF(I6>=5,5,IF(I6>=4,4,IF(I6>=3,3,IF(I6>=2,2,1)))) -> 4 | Q6: =IF(H6>=7500,5,IF(H6>=2500,4,IF(H6>=1000,3,IF(H6>=1,2,1)))) -> 3 | R6: =O6+P6+Q6 -> 9 | S6: =ROUND(10*R6+0.5*N6-6*K6-0.3*MAX(0,L6),1) -> 84.5 | T6: =IF(J6>365,"D - Abwanderungsrisiko",IF(S6>=125,"A - Top-Kunde",IF(S6>=105,"B - Kernkunde","C - Entwicklungspotenzial"))) -> C - Entwicklungspotenzial | U6: =ROUND(((E6-Hilfswerte!$B$20)/Hilfswerte!$B$21)+((F6-Hilfswerte!$B$22)/Hilfswerte!$B$23)+((G6-Hilfswerte!$B$24)/Hilfswerte!$B$25)+0.1*INDEX(Hilfswerte!$B$4:$B$15,MATCH(C6,Hilfswerte!$A$4:$A$15,0)),2) -> -0.79 | V6: =ROUND(SQRT((((E6-Hilfswerte!$B$20)/Hilfswerte!$B$21)-Hilfswerte!$B$28)^2+(((F6-Hilfswerte!$B$22)/Hilfswerte!$B$23)-Hilfswerte!$B$29)^2+(((G6-Hilfswerte!$B$24)/Hilfswerte!$B$25)-Hilfswerte!$B$30)^2),3) -> 0.923 | W6: =ROUND(E6*Hilfswerte!$B$31,0) -> 7194 | X6: =MAX(0,W6-H6) -> 5774 | Y6: =IF(T6="A - Top-Kunde","bereits Top-Kunde",IF(AND(V6<=Hilfswerte!$B$34,H6<0.5*W6),"Hoch",IF(AND(V6<=Hilfswerte!$B$35,H6<0.7*W6),"Mittel","Niedrig"))) -> Mittel | Z6: =ROUND(0.4*MAX(0,-N6)+3*K6+0.2*MAX(0,L6)+0.05*J6,1) -> 14 | AA6: =IF(J6>365,"Bereits abgewandert (Segment D)",IF(Z6>=Hilfswerte!$B$38,"Rot - akut gefaehrdet",IF(Z6>=Hilfswerte!$B$39,"Gelb - beobachten","Gruen - stabil"))) -> Gelb - beobachten
A7: K00006 | B7: Fuchs Industrie GmbH | C7: Anlagenbau | D7: DE | E7: 61 | F7: 13.5 | G7: 18.1 | H7: 0 | I7: 0 | J7: 743 | K7: 0 | L7: 4 | M7: 0 | N7: -54.6 | O7: =IF(J7>365,1,IF(J7<=30,5,IF(J7<=90,4,IF(J7<=180,3,2)))) -> 1 | P7: =IF(I7>=5,5,IF(I7>=4,4,IF(I7>=3,3,IF(I7>=2,2,1)))) -> 1 | Q7: =IF(H7>=7500,5,IF(H7>=2500,4,IF(H7>=1000,3,IF(H7>=1,2,1)))) -> 1 | R7: =O7+P7+Q7 -> 3 | S7: =ROUND(10*R7+0.5*N7-6*K7-0.3*MAX(0,L7),1) -> 1.5 | T7: =IF(J7>365,"D - Abwanderungsrisiko",IF(S7>=125,"A - Top-Kunde",IF(S7>=105,"B - Kernkunde","C - Entwicklungspotenzial"))) -> D - Abwanderungsrisiko | U7: =ROUND(((E7-Hilfswerte!$B$20)/Hilfswerte!$B$21)+((F7-Hilfswerte!$B$22)/Hilfswerte!$B$23)+((G7-Hilfswerte!$B$24)/Hilfswerte!$B$25)+0.1*INDEX(Hilfswerte!$B$4:$B$15,MATCH(C7,Hilfswerte!$A$4:$A$15,0)),2) -> 1.08 | V7: =ROUND(SQRT((((E7-Hilfswerte!$B$20)/Hilfswerte!$B$21)-Hilfswerte!$B$28)^2+(((F7-Hilfswerte!$B$22)/Hilfswerte!$B$23)-Hilfswerte!$B$29)^2+(((G7-Hilfswerte!$B$24)/Hilfswerte!$B$25)-Hilfswerte!$B$30)^2),3) -> 1.262 | W7: =ROUND(E7*Hilfswerte!$B$31,0) -> 12538 | X7: =MAX(0,W7-H7) -> 12538 | Y7: =IF(T7="A - Top-Kunde","bereits Top-Kunde",IF(AND(V7<=Hilfswerte!$B$34,H7<0.5*W7),"Hoch",IF(AND(V7<=Hilfswerte!$B$35,H7<0.7*W7),"Mittel","Niedrig"))) -> Niedrig | Z7: =ROUND(0.4*MAX(0,-N7)+3*K7+0.2*MAX(0,L7)+0.05*J7,1) -> 59.8 | AA7: =IF(J7>365,"Bereits abgewandert (Segment D)",IF(Z7>=Hilfswerte!$B$38,"Rot - akut gefaehrdet",IF(Z7>=Hilfswerte!$B$39,"Gelb - beobachten","Gruen - stabil"))) -> Bereits abgewandert (Segment D)
A8: K00007 | B8: Neumann GmbH & Co. KG | C8: Maschinenbau | D8: DE | E8: 32 | F8: 4 | G8: 16.4 | H8: 980 | I8: 3 | J8: 62 | K8: 1 | L8: 15 | M8: 2 | N8: 10.9 | O8: =IF(J8>365,1,IF(J8<=30,5,IF(J8<=90,4,IF(J8<=180,3,2)))) -> 4 | P8: =IF(I8>=5,5,IF(I8>=4,4,IF(I8>=3,3,IF(I8>=2,2,1)))) -> 3 | Q8: =IF(H8>=7500,5,IF(H8>=2500,4,IF(H8>=1000,3,IF(H8>=1,2,1)))) -> 2 | R8: =O8+P8+Q8 -> 9 | S8: =ROUND(10*R8+0.5*N8-6*K8-0.3*MAX(0,L8),1) -> 85 | T8: =IF(J8>365,"D - Abwanderungsrisiko",IF(S8>=125,"A - Top-Kunde",IF(S8>=105,"B - Kernkunde","C - Entwicklungspotenzial"))) -> C - Entwicklungspotenzial | U8: =ROUND(((E8-Hilfswerte!$B$20)/Hilfswerte!$B$21)+((F8-Hilfswerte!$B$22)/Hilfswerte!$B$23)+((G8-Hilfswerte!$B$24)/Hilfswerte!$B$25)+0.1*INDEX(Hilfswerte!$B$4:$B$15,MATCH(C8,Hilfswerte!$A$4:$A$15,0)),2) -> 0.2 | V8: =ROUND(SQRT((((E8-Hilfswerte!$B$20)/Hilfswerte!$B$21)-Hilfswerte!$B$28)^2+(((F8-Hilfswerte!$B$22)/Hilfswerte!$B$23)-Hilfswerte!$B$29)^2+(((G8-Hilfswerte!$B$24)/Hilfswerte!$B$25)-Hilfswerte!$B$30)^2),3) -> 1.176 | W8: =ROUND(E8*Hilfswerte!$B$31,0) -> 6577 | X8: =MAX(0,W8-H8) -> 5597 | Y8: =IF(T8="A - Top-Kunde","bereits Top-Kunde",IF(AND(V8<=Hilfswerte!$B$34,H8<0.5*W8),"Hoch",IF(AND(V8<=Hilfswerte!$B$35,H8<0.7*W8),"Mittel","Niedrig"))) -> Niedrig | Z8: =ROUND(0.4*MAX(0,-N8)+3*K8+0.2*MAX(0,L8)+0.05*J8,1) -> 9.1 | AA8: =IF(J8>365,"Bereits abgewandert (Segment D)",IF(Z8>=Hilfswerte!$B$38,"Rot - akut gefaehrdet",IF(Z8>=Hilfswerte!$B$39,"Gelb - beobachten","Gruen - stabil"))) -> Gruen - stabil
A9: K00008 | B9: Kern AG | C9: Prozesstechnik | D9: NL | E9: 522 | F9: 147 | G9: 18.1 | H9: 22870 | I9: 4 | J9: 58 | K9: 0 | L9: -2 | M9: 5 | N9: -7.7 | O9: =IF(J9>365,1,IF(J9<=30,5,IF(J9<=90,4,IF(J9<=180,3,2)))) -> 4 | P9: =IF(I9>=5,5,IF(I9>=4,4,IF(I9>=3,3,IF(I9>=2,2,1)))) -> 4 | Q9: =IF(H9>=7500,5,IF(H9>=2500,4,IF(H9>=1000,3,IF(H9>=1,2,1)))) -> 5 | R9: =O9+P9+Q9 -> 13 | S9: =ROUND(10*R9+0.5*N9-6*K9-0.3*MAX(0,L9),1) -> 126.2 | T9: =IF(J9>365,"D - Abwanderungsrisiko",IF(S9>=125,"A - Top-Kunde",IF(S9>=105,"B - Kernkunde","C - Entwicklungspotenzial"))) -> A - Top-Kunde | U9: =ROUND(((E9-Hilfswerte!$B$20)/Hilfswerte!$B$21)+((F9-Hilfswerte!$B$22)/Hilfswerte!$B$23)+((G9-Hilfswerte!$B$24)/Hilfswerte!$B$25)+0.1*INDEX(Hilfswerte!$B$4:$B$15,MATCH(C9,Hilfswerte!$A$4:$A$15,0)),2) -> 5.2 | V9: =ROUND(SQRT((((E9-Hilfswerte!$B$20)/Hilfswerte!$B$21)-Hilfswerte!$B$28)^2+(((F9-Hilfswerte!$B$22)/Hilfswerte!$B$23)-Hilfswerte!$B$29)^2+(((G9-Hilfswerte!$B$24)/Hilfswerte!$B$25)-Hilfswerte!$B$30)^2),3) -> 2.719 | W9: =ROUND(E9*Hilfswerte!$B$31,0) -> 107295 | X9: =MAX(0,W9-H9) -> 84425 | Y9: =IF(T9="A - Top-Kunde","bereits Top-Kunde",IF(AND(V9<=Hilfswerte!$B$34,H9<0.5*W9),"Hoch",IF(AND(V9<=Hilfswerte!$B$35,H9<0.7*W9),"Mittel","Niedrig"))) -> bereits Top-Kunde | Z9: =ROUND(0.4*MAX(0,-N9)+3*K9+0.2*MAX(0,L9)+0.05*J9,1) -> 6 | AA9: =IF(J9>365,"Bereits abgewandert (Segment D)",IF(Z9>=Hilfswerte!$B$38,"Rot - akut gefaehrdet",IF(Z9>=Hilfswerte!$B$39,"Gelb - beobachten","Gruen - stabil"))) -> Gruen - stabil
A10: K00009 | B10: Kern SE | C10: Antriebstechnik | D10: CH | E10: 552 | F10: 111.7 | G10: 5.1 | H10: 59550 | I10: 2 | J10: 299 | K10: 1 | L10: -5 | M10: 3 | N10: 10.6 | O10: =IF(J10>365,1,IF(J10<=30,5,IF(J10<=90,4,IF(J10<=180,3,2)))) -> 2 | P10: =IF(I10>=5,5,IF(I10>=4,4,IF(I10>=3,3,IF(I10>=2,2,1)))) -> 2 | Q10: =IF(H10>=7500,5,IF(H10>=2500,4,IF(H10>=1000,3,IF(H10>=1,2,1)))) -> 5 | R10: =O10+P10+Q10 -> 9 | S10: =ROUND(10*R10+0.5*N10-6*K10-0.3*MAX(0,L10),1) -> 89.3 | T10: =IF(J10>365,"D - Abwanderungsrisiko",IF(S10>=125,"A - Top-Kunde",IF(S10>=105,"B - Kernkunde","C - Entwicklungspotenzial"))) -> C - Entwicklungspotenzial | U10: =ROUND(((E10-Hilfswerte!$B$20)/Hilfswerte!$B$21)+((F10-Hilfswerte!$B$22)/Hilfswerte!$B$23)+((G10-Hilfswerte!$B$24)/Hilfswerte!$B$25)+0.1*INDEX(Hilfswerte!$B$4:$B$15,MATCH(C10,Hilfswerte!$A$4:$A$15,0)),2) -> 2.89 | V10: =ROUND(SQRT((((E10-Hilfswerte!$B$20)/Hilfswerte!$B$21)-Hilfswerte!$B$28)^2+(((F10-Hilfswerte!$B$22)/Hilfswerte!$B$23)-Hilfswerte!$B$29)^2+(((G10-Hilfswerte!$B$24)/Hilfswerte!$B$25)-Hilfswerte!$B$30)^2),3) -> 2.331 | W10: =ROUND(E10*Hilfswerte!$B$31,0) -> 113461 | X10: =MAX(0,W10-H10) -> 53911 | Y10: =IF(T10="A - Top-Kunde","bereits Top-Kunde",IF(AND(V10<=Hilfswerte!$B$34,H10<0.5*W10),"Hoch",IF(AND(V10<=Hilfswerte!$B$35,H10<0.7*W10),"Mittel","Niedrig"))) -> Niedrig | Z10: =ROUND(0.4*MAX(0,-N10)+3*K10+0.2*MAX(0,L10)+0.05*J10,1) -> 18 | AA10: =IF(J10>365,"Bereits abgewandert (Segment D)",IF(Z10>=Hilfswerte!$B$38,"Rot - akut gefaehrdet",IF(Z10>=Hilfswerte!$B$39,"Gelb - beobachten","Gruen - stabil"))) -> Gelb - beobachten
A11: K00010 | B11: Fuchs Maschinenbau GmbH | C11: Elektromaschinenbau | D11: IT | E11: 41 | F11: 16.7 | G11: 7 | H11: 12850 | I11: 8 | J11: 47 | K11: 2 | L11: 11 | M11: 6 | N11: -6.1 | O11: =IF(J11>365,1,IF(J11<=30,5,IF(J11<=90,4,IF(J11<=180,3,2)))) -> 4 | P11: =IF(I11>=5,5,IF(I11>=4,4,IF(I11>=3,3,IF(I11>=2,2,1)))) -> 5 | Q11: =IF(H11>=7500,5,IF(H11>=2500,4,IF(H11>=1000,3,IF(H11>=1,2,1)))) -> 5 | R11: =O11+P11+Q11 -> 14 | S11: =ROUND(10*R11+0.5*N11-6*K11-0.3*MAX(0,L11),1) -> 121.7 | T11: =IF(J11>365,"D - Abwanderungsrisiko",IF(S11>=125,"A - Top-Kunde",IF(S11>=105,"B - Kernkunde","C - Entwicklungspotenzial"))) -> B - Kernkunde | U11: =ROUND(((E11-Hilfswerte!$B$20)/Hilfswerte!$B$21)+((F11-Hilfswerte!$B$22)/Hilfswerte!$B$23)+((G11-Hilfswerte!$B$24)/Hilfswerte!$B$25)+0.1*INDEX(Hilfswerte!$B$4:$B$15,MATCH(C11,Hilfswerte!$A$4:$A$15,0)),2) -> -0.76 | V11: =ROUND(SQRT((((E11-Hilfswerte!$B$20)/Hilfswerte!$B$21)-Hilfswerte!$B$28)^2+(((F11-Hilfswerte!$B$22)/Hilfswerte!$B$23)-Hilfswerte!$B$29)^2+(((G11-Hilfswerte!$B$24)/Hilfswerte!$B$25)-Hilfswerte!$B$30)^2),3) -> 0.939 | W11: =ROUND(E11*Hilfswerte!$B$31,0) -> 8427 | X11: =MAX(0,W11-H11) -> 0 | Y11: =IF(T11="A - Top-Kunde","bereits Top-Kunde",IF(AND(V11<=Hilfswerte!$B$34,H11<0.5*W11),"Hoch",IF(AND(V11<=Hilfswerte!$B$35,H11<0.7*W11),"Mittel","Niedrig"))) -> Niedrig | Z11: =ROUND(0.4*MAX(0,-N11)+3*K11+0.2*MAX(0,L11)+0.05*J11,1) -> 13 | AA11: =IF(J11>365,"Bereits abgewandert (Segment D)",IF(Z11>=Hilfswerte!$B$38,"Rot - akut gefaehrdet",IF(Z11>=Hilfswerte!$B$39,"Gelb - beobachten","Gruen - stabil"))) -> Gruen - stabil
A12: K00011 | B12: Alpen SE | C12: Metallverarbeitung | D12: DE | E12: 25 | F12: 2.4 | G12: 7.9 | H12: 180 | I12: 1 | J12: 49 | K12: 0 | L12: 15 | M12: 1 | N12: -27.8 | O12: =IF(J12>365,1,IF(J12<=30,5,IF(J12<=90,4,IF(J12<=180,3,2)))) -> 4 | P12: =IF(I12>=5,5,IF(I12>=4,4,IF(I12>=3,3,IF(I12>=2,2,1)))) -> 1 | Q12: =IF(H12>=7500,5,IF(H12>=2500,4,IF(H12>=1000,3,IF(H12>=1,2,1)))) -> 2 | R12: =O12+P12+Q12 -> 7 | S12: =ROUND(10*R12+0.5*N12-6*K12-0.3*MAX(0,L12),1) -> 51.6 | T12: =IF(J12>365,"D - Abwanderungsrisiko",IF(S12>=125,"A - Top-Kunde",IF(S12>=105,"B - Kernkunde","C - Entwicklungspotenzial"))) -> C - Entwicklungspotenzial | U12: =ROUND(((E12-Hilfswerte!$B$20)/Hilfswerte!$B$21)+((F12-Hilfswerte!$B$22)/Hilfswerte!$B$23)+((G12-Hilfswerte!$B$24)/Hilfswerte!$B$25)+0.1*INDEX(Hilfswerte!$B$4:$B$15,MATCH(C12,Hilfswerte!$A$4:$A$15,0)),2) -> -1.31 | V12: =ROUND(SQRT((((E12-Hilfswerte!$B$20)/Hilfswerte!$B$21)-Hilfswerte!$B$28)^2+(((F12-Hilfswerte!$B$22)/Hilfswerte!$B$23)-Hilfswerte!$B$29)^2+(((G12-Hilfswerte!$B$24)/Hilfswerte!$B$25)-Hilfswerte!$B$30)^2),3) -> 1.025 | W12: =ROUND(E12*Hilfswerte!$B$31,0) -> 5139 | X12: =MAX(0,W12-H12) -> 4959 | Y12: =IF(T12="A - Top-Kunde","bereits Top-Kunde",IF(AND(V12<=Hilfswerte!$B$34,H12<0.5*W12),"Hoch",IF(AND(V12<=Hilfswerte!$B$35,H12<0.7*W12),"Mittel","Niedrig"))) -> Mittel | Z12: =ROUND(0.4*MAX(0,-N12)+3*K12+0.2*MAX(0,L12)+0.05*J12,1) -> 16.6 | AA12: =IF(J12>365,"Bereits abgewandert (Segment D)",IF(Z12>=Hilfswerte!$B$38,"Rot - akut gefaehrdet",IF(Z12>=Hilfswerte!$B$39,"Gelb - beobachten","Gruen - stabil"))) -> Gelb - beobachten
A13: K00012 | B13: Braun AG | C13: Werkzeugbau | D13: CH | E13: 148 | F13: 42.3 | G13: 0.3 | H13: 7980 | I13: 2 | J13: 56 | K13: 0 | L13: 4 | M13: 6 | N13: -30.5 | O13: =IF(J13>365,1,IF(J13<=30,5,IF(J13<=90,4,IF(J13<=180,3,2)))) -> 4 | P13: =IF(I13>=5,5,IF(I13>=4,4,IF(I13>=3,3,IF(I13>=2,2,1)))) -> 2 | Q13: =IF(H13>=7500,5,IF(H13>=2500,4,IF(H13>=1000,3,IF(H13>=1,2,1)))) -> 5 | R13: =O13+P13+Q13 -> 11 | S13: =ROUND(10*R13+0.5*N13-6*K13-0.3*MAX(0,L13),1) -> 93.6 | T13: =IF(J13>365,"D - Abwanderungsrisiko",IF(S13>=125,"A - Top-Kunde",IF(S13>=105,"B - Kernkunde","C - Entwicklungspotenzial"))) -> C - Entwicklungspotenzial | U13: =ROUND(((E13-Hilfswerte!$B$20)/Hilfswerte!$B$21)+((F13-Hilfswerte!$B$22)/Hilfswerte!$B$23)+((G13-Hilfswerte!$B$24)/Hilfswerte!$B$25)+0.1*INDEX(Hilfswerte!$B$4:$B$15,MATCH(C13,Hilfswerte!$A$4:$A$15,0)),2) -> -0.78 | V13: =ROUND(SQRT((((E13-Hilfswerte!$B$20)/Hilfswerte!$B$21)-Hilfswerte!$B$28)^2+(((F13-Hilfswerte!$B$22)/Hilfswerte!$B$23)-Hilfswerte!$B$29)^2+(((G13-Hilfswerte!$B$24)/Hilfswerte!$B$25)-Hilfswerte!$B$30)^2),3) -> 1.736 | W13: =ROUND(E13*Hilfswerte!$B$31,0) -> 30421 | X13: =MAX(0,W13-H13) -> 22441 | Y13: =IF(T13="A - Top-Kunde","bereits Top-Kunde",IF(AND(V13<=Hilfswerte!$B$34,H13<0.5*W13),"Hoch",IF(AND(V13<=Hilfswerte!$B$35,H13<0.7*W13),"Mittel","Niedrig"))) -> Niedrig | Z13: =ROUND(0.4*MAX(0,-N13)+3*K13+0.2*MAX(0,L13)+0.05*J13,1) -> 15.8 | AA13: =IF(J13>365,"Bereits abgewandert (Segment D)",IF(Z13>=Hilfswerte!$B$38,"Rot - akut gefaehrdet",IF(Z13>=Hilfswerte!$B$39,"Gelb - beobachten","Gruen - stabil"))) -> Gelb - beobachten
... A6401: K06400 | B6401: Alpen Technik GmbH | C6401: Antriebstechnik | D6401: DE | E6401: 8 | F6401: 1.5 | G6401: 17.8 | H6401: 0 | I6401: 0 | J6401: 702 | K6401: 0 | L6401: 24 | M6401: 0 | N6401: -56.2 | O6401: =IF(J6401>365,1,IF(J6401<=30,5,IF(J6401<=90,4,IF(J6401<=180,3,2)))) -> 1 | P6401: =IF(I6401>=5,5,IF(I6401>=4,4,IF(I6401>=3,3,IF(I6401>=2,2,1)))) -> 1 | Q6401: =IF(H6401>=7500,5,IF(H6401>=2500,4,IF(H6401>=1000,3,IF(H6401>=1,2,1)))) -> 1 | R6401: =O6401+P6401+Q6401 -> 3 | S6401: =ROUND(10*R6401+0.5*N6401-6*K6401-0.3*MAX(0,L6401),1) -> -5.3 | T6401: =IF(J6401>365,"D - Abwanderungsrisiko",IF(S6401>=125,"A - Top-Kunde",IF(S6401>=105,"B - Kernkunde","C - Entwicklungspotenzial"))) -> D - Abwanderungsrisiko | U6401: =ROUND(((E6401-Hilfswerte!$B$20)/Hilfswerte!$B$21)+((F6401-Hilfswerte!$B$22)/Hilfswerte!$B$23)+((G6401-Hilfswerte!$B$24)/Hilfswerte!$B$25)+0.1*INDEX(Hilfswerte!$B$4:$B$15,MATCH(C6401,Hilfswerte!$A$4:$A$15,0)),2) -> 0.6 | V6401: =ROUND(SQRT((((E6401-Hilfswerte!$B$20)/Hilfswerte!$B$21)-Hilfswerte!$B$28)^2+(((F6401-Hilfswerte!$B$22)/Hilfswerte!$B$23)-Hilfswerte!$B$29)^2+(((G6401-Hilfswerte!$B$24)/Hilfswerte!$B$25)-Hilfswerte!$B$30)^2),3) -> 1.409 | W6401: =ROUND(E6401*Hilfswerte!$B$31,0) -> 1644 | X6401: =MAX(0,W6401-H6401) -> 1644 | Y6401: =IF(T6401="A - Top-Kunde","bereits Top-Kunde",IF(AND(V6401<=Hilfswerte!$B$34,H6401<0.5*W6401),"Hoch",IF(AND(V6401<=Hilfswerte!$B$35,H6401<0.7*W6401),"Mittel","Niedrig"))) -> Niedrig | Z6401: =ROUND(0.4*MAX(0,-N6401)+3*K6401+0.2*MAX(0,L6401)+0.05*J6401,1) -> 62.4 | AA6401: =IF(J6401>365,"Bereits abgewandert (Segment D)",IF(Z6401>=Hilfswerte!$B$38,"Rot - akut gefaehrdet",IF(Z6401>=Hilfswerte!$B$39,"Gelb - beobachten","Gruen - stabil"))) -> Bereits abgewandert (Segment D)

Sheet Auswertung
A1: Kundenpotenzialanalyse - Uebersicht
A3: Segment | B3: Anzahl Kunden | C3: Anteil | D3: Ø Umsatz 12M (EUR) | E3: Summe Umsatz 12M (EUR)
A4: A - Top-Kunde | B4: =COUNTIF(Kundendaten!$T$2:$T$6401,$A4) -> 1417 | C4: =B4/$B$8 -> 0.22140625 | D4: =IFERROR(E4/B4,0) -> 34352.318 | E4: =SUMIF(Kundendaten!$T$2:$T$6401,$A4,Kundendaten!$H$2:$H$6401) -> 48677234
A5: B - Kernkunde | B5: =COUNTIF(Kundendaten!$T$2:$T$6401,$A5) -> 1169 | C5: =B5/$B$8 -> 0.18265625 | D5: =IFERROR(E5/B5,0) -> 20270.686 | E5: =SUMIF(Kundendaten!$T$2:$T$6401,$A5,Kundendaten!$H$2:$H$6401) -> 23696432
A6: C - Entwicklungspotenzial | B6: =COUNTIF(Kundendaten!$T$2:$T$6401,$A6) -> 3158 | C6: =B6/$B$8 -> 0.4934375 | D6: =IFERROR(E6/B6,0) -> 8821.6289 | E6: =SUMIF(Kundendaten!$T$2:$T$6401,$A6,Kundendaten!$H$2:$H$6401) -> 27858704
A7: D - Abwanderungsrisiko | B7: =COUNTIF(Kundendaten!$T$2:$T$6401,$A7) -> 656 | C7: =B7/$B$8 -> 0.1025 | D7: =IFERROR(E7/B7,0) -> 0 | E7: =SUMIF(Kundendaten!$T$2:$T$6401,$A7,Kundendaten!$H$2:$H$6401) -> 0
A8: Gesamt | B8: =SUM(B4:B7) -> 6400 | C8: =SUM(C4:C7) -> 1 | E8: =SUM(E4:E7) -> 100232370
A10: Kennzahl | B10: Wert
A11: Kunden gesamt | B11: =COUNTA(Kundendaten!$A$2:$A$6401) -> 6400
A12: Aktive Kunden (<=365 Tage) | B12: =COUNTIF(Kundendaten!$J$2:$J$6401,"<=365") -> 5744
A13: Inaktive Kunden (>365 Tage) | B13: =COUNTIF(Kundendaten!$J$2:$J$6401,">365") -> 656
A14: Umsatz 12M gesamt (EUR) | B14: =SUM(Kundendaten!$H$2:$H$6401) -> 100232370
A15: Ø Umsatz je aktivem Kunden (EUR) | B15: =IFERROR(B14/B12,0) -> 17449.925
A16: Median Kundenwert-Score | B16: =MEDIAN(Kundendaten!$S$2:$S$6401) -> 95.7
A17: Ø Bestellungen je aktivem Kunden | B17: =IFERROR(SUM(Kundendaten!$I$2:$I$6401)/B12,0) -> 2.9305362
A19: Notenklassen (fest, nicht quartilsbasiert) | B19: Note 5 | C19: Note 4 | D19: Note 3 | E19: Note 2 | F19: Note 1
A20: Recency - Tage seit letzter Bestellung | B20: 1-30 | C20: 31-90 | D20: 91-180 | E20: 181-365 | F20: >365
A21: Frequency - Bestellungen 12M | B21: 5 und mehr | C21: 4 | D21: 3 | E21: 2 | F21: 1 oder 0
A22: Monetary - Umsatz 12M (EUR) | B22: ab 7.500 | C22: 2.500-7.499 | D22: 1.000-2.499 | E22: 1-999 | F22: 0
A25: Kundenwert-Score = 10 x RFM-Summe + 0,5 x Wachstum % - 6 x Reklamationen - 0,3 x Zahlungsverzug (nur positive Tage)
A26: Segmentgrenzen: D bei Letzte_Bestellung > 365 Tage (hat Vorrang) | A ab Score 125 | B ab Score 105 | sonst C
A27: Feste Klassengrenzen und Segmentschwellen sind bewusst gesetzt, damit Noten sich nicht aendern, wenn neue Kunden hinzukommen.
A28: Inaktive Kunden (>365 Tage) haben per Definition 0 EUR Umsatz und 0 Bestellungen im 12-Monats-Fenster.
A29: Synthetische Testdaten, erzeugt 30.07.2026, Seed 20260730. 6.400 unabhaengige Datensaetze (3.200 original + 3.200 per Bootstrap+Jitter ergaenzt, Seed 20260801), keine Duplikate.
A31: Erweiterte Kennzahlen v2 (Spalten U-AA in Kundendaten)
A33: Firmenpotenzial_Score: rein firmografisch (Mitarbeiter, Kundenumsatz, Kundenalter, Branchenwachstum) - haengt NICHT von Umsatz_mit_uns_12M_EUR ab. Loest die Tautologie des Kundenwert_Score, der zirkulaer auf dem eigenen Umsatz basiert.
A34: Firmo_Distanz_TopKunden / Erwarteter_Umsatz_EUR / Umsatzluecke_EUR / Cross_Selling_Potenzial: identifizieren Bestandskunden, die firmografisch zu Top-Kunden passen, aber deutlich unter dem erwarteten Umsatz kaufen.
A35: Fruehwarn_Score / Risiko_Ampel: kontinuierliches Risikosignal aus Wachstum, Reklamationen und Zahlungsverzug - erkennt gefaehrdete Kunden BEVOR sie (per fixer 365-Tage-Regel) in Segment D fallen. Segment D bleibt unveraendert erhalten, da es an anderer Stelle (SAP-Import etc.) referenziert werden koennte.
A36: Alle Kennzahlen sind Formeln und aktualisieren sich automatisch bei neuen/geaenderten Kundendaten. Hilfsgroessen (Mittelwerte, Perzentile, Branchen-Wachstum) stehen im Tab Hilfswerte.
A37: Korrektur v4: Jahresumsatz_Kunde_Mio_EUR wurde neu berechnet auf Basis realistischer Umsatz/Mitarbeiter-Richtwerte je Branche (180.000-260.000 EUR/MA, mit Streuung 0,5x-2,2x). Vorher unrealistisch niedrig (Median ca. 22.500 EUR/MA statt branchenueblich >150.000 EUR/MA).

Sheet Hilfswerte
A1: Hilfswerte fuer erweiterte Kennzahlen (Kundendaten Spalten U-AA)
A3: Branche | B3: Umsatzgewichtetes Wachstum YoY (%)
A4: Anlagenbau | B4: =SUMPRODUCT((Kundendaten!$C$2:$C$6401=A4)*Kundendaten!$N$2:$N$6401*Kundendaten!$H$2:$H$6401)/SUMPRODUCT((Kundendaten!$C$2:$C$6401=A4)*Kundendaten!$H$2:$H$6401) -> 6.3790941
A5: Antriebstechnik | B5: =SUMPRODUCT((Kundendaten!$C$2:$C$6401=A5)*Kundendaten!$N$2:$N$6401*Kundendaten!$H$2:$H$6401)/SUMPRODUCT((Kundendaten!$C$2:$C$6401=A5)*Kundendaten!$H$2:$H$6401) -> 6.4530265
A6: Automotive-Zulieferer | B6: =SUMPRODUCT((Kundendaten!$C$2:$C$6401=A6)*Kundendaten!$N$2:$N$6401*Kundendaten!$H$2:$H$6401)/SUMPRODUCT((Kundendaten!$C$2:$C$6401=A6)*Kundendaten!$H$2:$H$6401) -> 5.6547747
A7: Elektromaschinenbau | B7: =SUMPRODUCT((Kundendaten!$C$2:$C$6401=A7)*Kundendaten!$N$2:$N$6401*Kundendaten!$H$2:$H$6401)/SUMPRODUCT((Kundendaten!$C$2:$C$6401=A7)*Kundendaten!$H$2:$H$6401) -> 5.9177124
A8: Elektrotechnik | B8: =SUMPRODUCT((Kundendaten!$C$2:$C$6401=A8)*Kundendaten!$N$2:$N$6401*Kundendaten!$H$2:$H$6401)/SUMPRODUCT((Kundendaten!$C$2:$C$6401=A8)*Kundendaten!$H$2:$H$6401) -> 2.7567015
A9: Energietechnik | B9: =SUMPRODUCT((Kundendaten!$C$2:$C$6401=A9)*Kundendaten!$N$2:$N$6401*Kundendaten!$H$2:$H$6401)/SUMPRODUCT((Kundendaten!$C$2:$C$6401=A9)*Kundendaten!$H$2:$H$6401) -> 2.4528017
A10: Maschinenbau | B10: =SUMPRODUCT((Kundendaten!$C$2:$C$6401=A10)*Kundendaten!$N$2:$N$6401*Kundendaten!$H$2:$H$6401)/SUMPRODUCT((Kundendaten!$C$2:$C$6401=A10)*Kundendaten!$H$2:$H$6401) -> 3.2698644
A11: Metallverarbeitung | B11: =SUMPRODUCT((Kundendaten!$C$2:$C$6401=A11)*Kundendaten!$N$2:$N$6401*Kundendaten!$H$2:$H$6401)/SUMPRODUCT((Kundendaten!$C$2:$C$6401=A11)*Kundendaten!$H$2:$H$6401) -> 2.2431055
A12: Prozesstechnik | B12: =SUMPRODUCT((Kundendaten!$C$2:$C$6401=A12)*Kundendaten!$N$2:$N$6401*Kundendaten!$H$2:$H$6401)/SUMPRODUCT((Kundendaten!$C$2:$C$6401=A12)*Kundendaten!$H$2:$H$6401) -> 3.8120393
A13: Sondermaschinenbau | B13: =SUMPRODUCT((Kundendaten!$C$2:$C$6401=A13)*Kundendaten!$N$2:$N$6401*Kundendaten!$H$2:$H$6401)/SUMPRODUCT((Kundendaten!$C$2:$C$6401=A13)*Kundendaten!$H$2:$H$6401) -> 5.9150451
A14: Verpackungstechnik | B14: =SUMPRODUCT((Kundendaten!$C$2:$C$6401=A14)*Kundendaten!$N$2:$N$6401*Kundendaten!$H$2:$H$6401)/SUMPRODUCT((Kundendaten!$C$2:$C$6401=A14)*Kundendaten!$H$2:$H$6401) -> 3.0088287
A15: Werkzeugbau | B15: =SUMPRODUCT((Kundendaten!$C$2:$C$6401=A15)*Kundendaten!$N$2:$N$6401*Kundendaten!$H$2:$H$6401)/SUMPRODUCT((Kundendaten!$C$2:$C$6401=A15)*Kundendaten!$H$2:$H$6401) -> 7.1650898
A19: Globalstatistik (alle Kunden)
A20: Mittelwert Mitarbeiterzahl | B20: =AVERAGE(Kundendaten!$E$2:$E$6401) -> 140.81297
A21: Std.Abw. Mitarbeiterzahl | B21: =STDEV(Kundendaten!$E$2:$E$6401) -> 233.97318
A22: Mittelwert Jahresumsatz_Kunde_Mio_EUR | B22: =AVERAGE(Kundendaten!$F$2:$F$6401) -> 31.769125
A23: Std.Abw. Jahresumsatz_Kunde_Mio_EUR | B23: =STDEV(Kundendaten!$F$2:$F$6401) -> 55.394035
A24: Mittelwert Kundenalter_Jahre | B24: =AVERAGE(Kundendaten!$G$2:$G$6401) -> 11.095797
A25: Std.Abw. Kundenalter_Jahre | B25: =STDEV(Kundendaten!$G$2:$G$6401) -> 6.2979732
A27: Profil Top-Kunden (Segment A) - standardisiert
A28: Ø z-Score Mitarbeiterzahl (Top-Kunden) | B28: =SUMPRODUCT((Kundendaten!$T$2:$T$6401="A - Top-Kunde")*((Kundendaten!$E$2:$E$6401-$B$20)/$B$21))/COUNTIF(Kundendaten!$T$2:$T$6401,"A - Top-Kunde") -> 0.11246614
A29: Ø z-Score Jahresumsatz_Kunde (Top-Kunden) | B29: =SUMPRODUCT((Kundendaten!$T$2:$T$6401="A - Top-Kunde")*((Kundendaten!$F$2:$F$6401-$B$22)/$B$23))/COUNTIF(Kundendaten!$T$2:$T$6401,"A - Top-Kunde") -> 0.10685937
A30: Ø z-Score Kundenalter (Top-Kunden) | B30: =SUMPRODUCT((Kundendaten!$T$2:$T$6401="A - Top-Kunde")*((Kundendaten!$G$2:$G$6401-$B$24)/$B$25))/COUNTIF(Kundendaten!$T$2:$T$6401,"A - Top-Kunde") -> 0.01824873
A31: Umsatz je Mitarbeiter, Top-Kunden (EUR, umsatzgewichtet) | B31: =SUMPRODUCT((Kundendaten!$T$2:$T$6401="A - Top-Kunde")*Kundendaten!$H$2:$H$6401)/SUMPRODUCT((Kundendaten!$T$2:$T$6401="A - Top-Kunde")*Kundendaten!$E$2:$E$6401) -> 205.54615
A33: Schwellenwerte Cross-Selling-Distanz
A34: Distanz-Schwelle "aehnlich" (25. Perzentil aller Kunden) | B34: =QUARTILE(Kundendaten!$V$2:$V$6401,1) -> 0.84275
A35: Distanz-Schwelle "entfernt aehnlich" (50. Perzentil) | B35: =QUARTILE(Kundendaten!$V$2:$V$6401,2) -> 1.1465
A37: Schwellenwerte Fruehwarn-Score (nur aktive Kunden, <=365 Tage)
A38: Rot-Schwelle (90. Perzentil Fruehwarn-Score, aktive Kunden) | B38: {=PERCENTILE(IF(Kundendaten!$J$2:$J$6401<=365,Kundendaten!$Z$2:$Z$6401),0.9)} -> 19.9
A39: Gelb-Schwelle (70. Perzentil Fruehwarn-Score, aktive Kunden) | B39: {=PERCENTILE(IF(Kundendaten!$J$2:$J$6401<=365,Kundendaten!$Z$2:$Z$6401),0.7)} -> 13.7
